BEGIN:VCALENDAR
VERSION:2.0
PRODID:-//InvisionCommunity Events 4.7.23//EN
METHOD:PUBLISH
CALSCALE:GREGORIAN
REFRESH-INTERVAL:PT15M
X-PUBLISHED-TTL:PT15M
X-WR-CALNAME:Community Calendar
NAME:Community Calendar
BEGIN:VTIMEZONE
TZID:Europe/London
TZURL:http://tzurl.org/zoneinfo/Europe/London
X-LIC-LOCATION:Europe/London
BEGIN:DAYLIGHT
TZOFFSETFROM:+0000
TZOFFSETTO:+0100
TZNAME:BST
DTSTART:20200329T020000Z
RRULE:FREQ=YEARLY;BYMONTH=3;BYDAY=-1SU
END:DAYLIGHT
BEGIN:STANDARD
TZOFFSETFROM:+0100
TZOFFSETTO:+0000
TZNAME:GMT
DTSTART:20201025T020000Z
RRULE:FREQ=YEARLY;BYMONTH=10;BYDAY=-1SU
END:STANDARD
END:VTIMEZONE
BEGIN:VEVENT
SUMMARY:Uncrowned Addiction Anniversary!
DTSTAMP:20201001T004439Z
SEQUENCE:0
UID:1-1-b4852c67d80a747ca6e642257162c275@uncrownedempire.com
ORGANIZER;CN="Uncrowned Guard":no-reply@uncrownedempire.com
DESCRIPTION:\n	Uncrowned Addition published it's first article on Novemb
	er 14th 2020 and has been growing as part of our empire ever since!\n\n
DTSTART;VALUE=DATE:20201114
RRULE:FREQ=YEARLY;INTERVAL=1
END:VEVENT
BEGIN:VEVENT
SUMMARY:Uncrowned Gaming Anniversary!
DTSTAMP:20211002T130611Z
SEQUENCE:0
UID:2-1-b4852c67d80a747ca6e642257162c275@uncrownedempire.com
ORGANIZER;CN="Uncrowned Guard":no-reply@uncrownedempire.com
DESCRIPTION:\n	\n		\n			Uncrowned Gaming published it's first article on
	 November 09th 2020 and has been growing as part of our empire ever since!
	\n		\n	\n\n
DTSTART;VALUE=DATE:20201109
RRULE:FREQ=YEARLY;INTERVAL=1
END:VEVENT
END:VCALENDAR
